BEGIN:VCALENDAR
VERSION:2.0
PRODID:icalendar-ruby
CALSCALE:GREGORIAN
METHOD:PUBLISH
BEGIN:VEVENT
DTSTAMP:20260422T140010Z
UID:143-427930@graceumclb.org
DTSTART:20260425T140000Z
DTEND:20260425T154500Z
CLASS:PUBLIC
CREATED:20260408T172707
DESCRIPTION:
LAST-MODIFIED:20260408T172707
LOCATION:Sanctuary
SUMMARY:Tim Soderstrom Visitation (prior to service)
URL;VALUE=URI:https://www.graceumclb.org/events/tim-soderstrom-visitation-p
 rior-to-service/2026-04-25
END:VEVENT
END:VCALENDAR
