BEGIN:VCALENDAR
VERSION:2.0
PRODID:icalendar-ruby
CALSCALE:GREGORIAN
METHOD:PUBLISH
BEGIN:VEVENT
DTSTAMP:20260423T135408Z
UID:143-461052@graceumclb.org
DTSTART:20260425T140000Z
DTEND:20260425T154500Z
CLASS:PUBLIC
CREATED:20260422T201155
DESCRIPTION:
LAST-MODIFIED:20260422T201155
LOCATION:Sanctuary
SUMMARY:Soderstrom Family Visitation (prior to service)
URL;VALUE=URI:https://www.graceumclb.org/events/soderstrom-family-visitatio
 n-prior-to-service/2026-04-25
END:VEVENT
END:VCALENDAR
