BEGIN:VCALENDAR
VERSION:2.0
PRODID:icalendar-ruby
CALSCALE:GREGORIAN
METHOD:PUBLISH
BEGIN:VEVENT
DTSTAMP:20260424T133641Z
UID:140-407833@graceumclb.org
DTSTART:20260427T233000Z
DTEND:20260428T010000Z
CLASS:PUBLIC
CREATED:20260331T121149
DESCRIPTION:
LAST-MODIFIED:20260331T121149
LOCATION:Parsonage
SUMMARY:Coordinating Committee Meeting
URL;VALUE=URI:https://www.graceumclb.org/events/coordinating-committee-meet
 ing--140/2026-04-27
END:VEVENT
END:VCALENDAR
