BEGIN:VCALENDAR
VERSION:2.0
PRODID:icalendar-ruby
CALSCALE:GREGORIAN
METHOD:PUBLISH
BEGIN:VEVENT
DTSTAMP:20260420T140413Z
UID:153-448338@graceumclb.org
DTSTART:20260422T130000Z
DTEND:20260422T180000Z
CLASS:PUBLIC
CREATED:20260417T113139
DESCRIPTION:
LAST-MODIFIED:20260417T113139
LOCATION:Library
SUMMARY:Concrete Rose LC Event
URL;VALUE=URI:https://www.graceumclb.org/events/concrete-rose-lc-event/2026
 -04-22
END:VEVENT
END:VCALENDAR
