BEGIN:VCALENDAR
VERSION:2.0
PRODID:icalendar-ruby
CALSCALE:GREGORIAN
METHOD:PUBLISH
BEGIN:VEVENT
DTSTAMP:20260423T185725Z
UID:157-461051@graceumclb.org
DTSTART:20260518T190000Z
DTEND:20260518T200000Z
CLASS:PUBLIC
CREATED:20260422T195240
DESCRIPTION:
LAST-MODIFIED:20260422T195240
LOCATION:Library
SUMMARY:Book Study: Revival by Adam Hamilton
URL;VALUE=URI:https://www.graceumclb.org/events/book-study-revival-by-adam-
 hamilton/2026-05-18
END:VEVENT
END:VCALENDAR
